BEGIN:VCALENDAR
VERSION:2.0
PRODID:-//eventon.com NONSGML v1.0//EN
BEGIN:VEVENT
UID:69e88540509dc
DTSTAMP:20260422T092224
DTSTART:20230314T093000Z
DTEND:20230314T160000Z
TZID:Europe/London
LOCATION:Bolton Stadium Hotel University of Bolton Stadium\,  De Havilland Way\,  Bolton\,  BL6 6SF
SUMMARY:Health and Wellbeing Conference - Staying Healthy
DESCRIPTION: The conference is for people with a learning disability and carers and is free of charge. Professionals from Primary Care\,  Integrated Care Boards\,  Integrated Care Systems and others working across Health Improvement and Inequality. Click here to book for the Bolton Stadium HotelFor queries you can contact england.nwlda@nhs.net You can[..]\nhttps://humbernypins.co.uk/events/health-and-wellbeing-conference-staying-healthy/
URL:https://humbernypins.co.uk/events/health-and-wellbeing-conference-staying-healthy/
END:VEVENT
END:VCALENDAR